BEGIN:VCALENDAR
VERSION:2.0
PRODID:Fietssport.nl
CALSCALE:GREGORIAN
BEGIN:VEVENT
DTSTART;TZID=Europe/Amsterdam:20260719T090000
DTEND;TZID=Europe/Amsterdam:20260719T100000
SUMMARY:RTV de Zwaluwen Deurdonderen Gravel 60 & 100 2026
URL:https://www.fietssport.nl/toertochten/60247
DESCRIPTION:RTV de Zwaluwen Deurdonderen Gravel 60 & 100 2026\n\nzondag 19 juli 2026\nFabriekstraat 47\nDoetinchem\n\nhttps://www.fietssport.nl/toertochten/60247
LOCATION:Doetinchem
BEGIN:VALARM
TRIGGER:-PT24H
DESCRIPTION:Herinnering - RTV de Zwaluwen Deurdonderen Gravel 60 & 100 2026
ACTION:DISPLAY
END:VALARM
END:VEVENT
END:VCALENDAR
