BEGIN:VCALENDAR
VERSION:2.0
PRODID:Fietssport.nl
CALSCALE:GREGORIAN
BEGIN:VEVENT
DTSTART;TZID=Europe/Amsterdam:20270404T090000
DTEND;TZID=Europe/Amsterdam:20270404T100000
SUMMARY:040RIDE 2027 Toertocht racefiets
URL:https://www.fietssport.nl/toertochten/60238
DESCRIPTION:040RIDE 2027 Toertocht racefiets\n\nzondag 04 april 2027\nTrefpunt t Akkertje Heezerweg 452 EIndhoven\nEindhoven\n\nhttps://www.fietssport.nl/toertochten/60238
LOCATION:Eindhoven
BEGIN:VALARM
TRIGGER:-PT24H
DESCRIPTION:Herinnering - 040RIDE 2027 Toertocht racefiets
ACTION:DISPLAY
END:VALARM
END:VEVENT
END:VCALENDAR
