BEGIN:VCALENDAR
VERSION:2.0
PRODID:Fietssport.nl
CALSCALE:GREGORIAN
BEGIN:VEVENT
DTSTART;TZID=Europe/Amsterdam:20270313T090000
DTEND;TZID=Europe/Amsterdam:20270313T100000
SUMMARY:Hesseler Voorjaarstocht 2027
URL:https://www.fietssport.nl/toertochten/60231
DESCRIPTION:Hesseler Voorjaarstocht 2027\n\nzaterdag 13 maart 2027\nBeatrixlaan 23a\nOosterhesselen\n\nhttps://www.fietssport.nl/toertochten/60231
LOCATION:Oosterhesselen
BEGIN:VALARM
TRIGGER:-PT24H
DESCRIPTION:Herinnering - Hesseler Voorjaarstocht 2027
ACTION:DISPLAY
END:VALARM
END:VEVENT
END:VCALENDAR
