BEGIN:VCALENDAR
VERSION:2.0
PRODID:Fietssport.nl
CALSCALE:GREGORIAN
BEGIN:VEVENT
DTSTART;TZID=Europe/Amsterdam:20270314T083000
DTEND;TZID=Europe/Amsterdam:20270314T093000
SUMMARY:Tegelhuys Gravel Ride 100 km 2027
URL:https://www.fietssport.nl/toertochten/60230
DESCRIPTION:Tegelhuys Gravel Ride 100 km 2027\n\nzondag 14 maart 2027\nVlaskamp 7\nGieten\n\nhttps://www.fietssport.nl/toertochten/60230
LOCATION:Gieten
BEGIN:VALARM
TRIGGER:-PT24H
DESCRIPTION:Herinnering - Tegelhuys Gravel Ride 100 km 2027
ACTION:DISPLAY
END:VALARM
END:VEVENT
END:VCALENDAR
