BEGIN:VCALENDAR
VERSION:2.0
PRODID:Fietssport.nl
CALSCALE:GREGORIAN
BEGIN:VEVENT
DTSTART;TZID=Europe/Amsterdam:20260517T090000
DTEND;TZID=Europe/Amsterdam:20260517T103000
SUMMARY:De Kempen fietst voor ALS
URL:https://www.fietssport.nl/toertochten/60204
DESCRIPTION:De Kempen fietst voor ALS\n\nzondag 17 mei 2026\nDe Plaatse\nVeldhoven\n\nhttps://www.fietssport.nl/toertochten/60204
LOCATION:Veldhoven
BEGIN:VALARM
TRIGGER:-PT24H
DESCRIPTION:Herinnering - De Kempen fietst voor ALS
ACTION:DISPLAY
END:VALARM
END:VEVENT
END:VCALENDAR
