BEGIN:VCALENDAR
VERSION:2.0
PRODID:Fietssport.nl
CALSCALE:GREGORIAN
BEGIN:VEVENT
DTSTART;TZID=Europe/Amsterdam:20260620T080000
DTEND;TZID=Europe/Amsterdam:20260620T110000
SUMMARY:Ride To Remember 2026
URL:https://www.fietssport.nl/toertochten/60203
DESCRIPTION:Ride To Remember 2026\n\nzaterdag 20 juni 2026\nGouderaksedijk 32 Gouda\nGouda\n\nhttps://www.fietssport.nl/toertochten/60203
LOCATION:Gouda
BEGIN:VALARM
TRIGGER:-PT24H
DESCRIPTION:Herinnering - Ride To Remember 2026
ACTION:DISPLAY
END:VALARM
END:VEVENT
END:VCALENDAR
