BEGIN:VCALENDAR
VERSION:2.0
PRODID:Fietssport.nl
CALSCALE:GREGORIAN
BEGIN:VEVENT
DTSTART;TZID=Europe/Amsterdam:20270117T090000
DTEND;TZID=Europe/Amsterdam:20270117T103000
SUMMARY:Toffe wintertocht powered by SVDO Tourbuffels
URL:https://www.fietssport.nl/toertochten/60175
DESCRIPTION:Toffe wintertocht powered by SVDO Tourbuffels\n\nzondag 17 januari 2027\nCafe De Barbier Dorpsstraat 54\nHellendoorn\n\nhttps://www.fietssport.nl/toertochten/60175
LOCATION:Hellendoorn
BEGIN:VALARM
TRIGGER:-PT24H
DESCRIPTION:Herinnering - Toffe wintertocht powered by SVDO Tourbuffels
ACTION:DISPLAY
END:VALARM
END:VEVENT
END:VCALENDAR
