BEGIN:VCALENDAR
VERSION:2.0
PRODID:Fietssport.nl
CALSCALE:GREGORIAN
BEGIN:VEVENT
DTSTART;TZID=Europe/Amsterdam:20260628T101500
DTEND;TZID=Europe/Amsterdam:20260628T103000
SUMMARY:Toerversie Rotterdam 2026
URL:https://www.fietssport.nl/toertochten/60169
DESCRIPTION:Toerversie Rotterdam 2026\n\nzondag 28 juni 2026\nVan Zandvlietplein\nRotterdam\n\nhttps://www.fietssport.nl/toertochten/60169
LOCATION:Rotterdam
BEGIN:VALARM
TRIGGER:-PT24H
DESCRIPTION:Herinnering - Toerversie Rotterdam 2026
ACTION:DISPLAY
END:VALARM
END:VEVENT
END:VCALENDAR
