BEGIN:VCALENDAR
VERSION:2.0
PRODID:Fietssport.nl
CALSCALE:GREGORIAN
BEGIN:VEVENT
DTSTART;TZID=Europe/Amsterdam:20260705T103000
DTEND;TZID=Europe/Amsterdam:20260705T110000
SUMMARY:Tour dUtrecht 2026
URL:https://www.fietssport.nl/toertochten/60168
DESCRIPTION:Tour dUtrecht 2026\n\nzondag 05 juli 2026\nJaarbeursboulevard 300\nUtrecht\n\nhttps://www.fietssport.nl/toertochten/60168
LOCATION:Utrecht
BEGIN:VALARM
TRIGGER:-PT24H
DESCRIPTION:Herinnering - Tour dUtrecht 2026
ACTION:DISPLAY
END:VALARM
END:VEVENT
END:VCALENDAR
