BEGIN:VCALENDAR
VERSION:2.0
PRODID:Fietssport.nl
CALSCALE:GREGORIAN
BEGIN:VEVENT
DTSTART;TZID=Europe/Amsterdam:20260830T103000
DTEND;TZID=Europe/Amsterdam:20260830T110000
SUMMARY:Vuelta a Utrecht 2026
URL:https://www.fietssport.nl/toertochten/60167
DESCRIPTION:Vuelta a Utrecht 2026\n\nzondag 30 augustus 2026\nBrusselplein 2\nUtrecht\n\nhttps://www.fietssport.nl/toertochten/60167
LOCATION:Utrecht
BEGIN:VALARM
TRIGGER:-PT24H
DESCRIPTION:Herinnering - Vuelta a Utrecht 2026
ACTION:DISPLAY
END:VALARM
END:VEVENT
END:VCALENDAR
