BEGIN:VCALENDAR
VERSION:2.0
PRODID:Fietssport.nl
CALSCALE:GREGORIAN
BEGIN:VEVENT
DTSTART;TZID=Europe/Amsterdam:20260906T000000
DTEND;TZID=Europe/Amsterdam:20260906T101500
SUMMARY:Tourversie Den Haag 2026
URL:https://www.fietssport.nl/toertochten/60165
DESCRIPTION:Tourversie Den Haag 2026\n\nzondag 06 september 2026\nGerard Mercatorpad 5\nS-Gravenhage\n\nhttps://www.fietssport.nl/toertochten/60165
LOCATION:S-Gravenhage
BEGIN:VALARM
TRIGGER:-PT24H
DESCRIPTION:Herinnering - Tourversie Den Haag 2026
ACTION:DISPLAY
END:VALARM
END:VEVENT
END:VCALENDAR
