BEGIN:VCALENDAR
VERSION:2.0
PRODID:Fietssport.nl
CALSCALE:GREGORIAN
BEGIN:VEVENT
DTSTART;TZID=Europe/Amsterdam:20260920T000000
DTEND;TZID=Europe/Amsterdam:20260920T000000
SUMMARY:Mergelheuvelland 2-daagse (Mh2d - MTB) 2026
URL:https://www.fietssport.nl/toertochten/60162
DESCRIPTION:Mergelheuvelland 2-daagse (Mh2d - MTB) 2026\n\nzondag 20 september 2026\nLibeek\nSint Geertruid\n\nhttps://www.fietssport.nl/toertochten/60162
LOCATION:Sint Geertruid
BEGIN:VALARM
TRIGGER:-PT24H
DESCRIPTION:Herinnering - Mergelheuvelland 2-daagse (Mh2d - MTB) 2026
ACTION:DISPLAY
END:VALARM
END:VEVENT
END:VCALENDAR
