BEGIN:VCALENDAR
VERSION:2.0
PRODID:Fietssport.nl
CALSCALE:GREGORIAN
BEGIN:VEVENT
DTSTART;TZID=Europe/Amsterdam:20260830T090000
DTEND;TZID=Europe/Amsterdam:20260830T100000
SUMMARY:Lonneker Molentocht Gravel 2026
URL:https://www.fietssport.nl/toertochten/60091
DESCRIPTION:Lonneker Molentocht Gravel 2026\n\nzondag 30 augustus 2026\nSpolminkkamp 40\nEnschede\n\nhttps://www.fietssport.nl/toertochten/60091
LOCATION:Enschede
BEGIN:VALARM
TRIGGER:-PT24H
DESCRIPTION:Herinnering - Lonneker Molentocht Gravel 2026
ACTION:DISPLAY
END:VALARM
END:VEVENT
END:VCALENDAR
