BEGIN:VCALENDAR
VERSION:2.0
PRODID:Fietssport.nl
CALSCALE:GREGORIAN
BEGIN:VEVENT
DTSTART;TZID=Europe/Amsterdam:20260425T083000
DTEND;TZID=Europe/Amsterdam:20260425T100000
SUMMARY:Kees Bal Classic 2026
URL:https://www.fietssport.nl/toertochten/60085
DESCRIPTION:Kees Bal Classic 2026\n\nzaterdag 25 april 2026\nNieuwe Rijksweg 21\nS-Heer Hendrikskinderen\n\nhttps://www.fietssport.nl/toertochten/60085
LOCATION:S-Heer Hendrikskinderen
BEGIN:VALARM
TRIGGER:-PT24H
DESCRIPTION:Herinnering - Kees Bal Classic 2026
ACTION:DISPLAY
END:VALARM
END:VEVENT
END:VCALENDAR
