BEGIN:VCALENDAR
VERSION:2.0
PRODID:Fietssport.nl
CALSCALE:GREGORIAN
BEGIN:VEVENT
DTSTART;TZID=Europe/Amsterdam:20261025T090000
DTEND;TZID=Europe/Amsterdam:20261025T100000
SUMMARY:Westerwolde ATB tocht 2026
URL:https://www.fietssport.nl/toertochten/60084
DESCRIPTION:Westerwolde ATB tocht 2026\n\nzondag 25 oktober 2026\nG. Buwaldaweg 37\nJipsingbourtange\n\nhttps://www.fietssport.nl/toertochten/60084
LOCATION:Jipsingbourtange
BEGIN:VALARM
TRIGGER:-PT24H
DESCRIPTION:Herinnering - Westerwolde ATB tocht 2026
ACTION:DISPLAY
END:VALARM
END:VEVENT
END:VCALENDAR
