BEGIN:VCALENDAR
VERSION:2.0
PRODID:Fietssport.nl
CALSCALE:GREGORIAN
BEGIN:VEVENT
DTSTART;TZID=Europe/Amsterdam:20260607T090000
DTEND;TZID=Europe/Amsterdam:20260607T100000
SUMMARY:Julians Fiets- en Wandeltocht 2026
URL:https://www.fietssport.nl/toertochten/60083
DESCRIPTION:Julians Fiets- en Wandeltocht 2026\n\nzondag 07 juni 2026\nDwarsweg 4\nStadskanaal\n\nhttps://www.fietssport.nl/toertochten/60083
LOCATION:Stadskanaal
BEGIN:VALARM
TRIGGER:-PT24H
DESCRIPTION:Herinnering - Julians Fiets- en Wandeltocht 2026
ACTION:DISPLAY
END:VALARM
END:VEVENT
END:VCALENDAR
