BEGIN:VCALENDAR
VERSION:2.0
PRODID:Fietssport.nl
CALSCALE:GREGORIAN
BEGIN:VEVENT
DTSTART;TZID=Europe/Amsterdam:20260606T090000
DTEND;TZID=Europe/Amsterdam:20260606T093000
SUMMARY:Heuveltocht
URL:https://www.fietssport.nl/toertochten/60079
DESCRIPTION:Heuveltocht\n\nzaterdag 06 juni 2026\nCrailoseweg\nHuizen\n\nhttps://www.fietssport.nl/toertochten/60079
LOCATION:Huizen
BEGIN:VALARM
TRIGGER:-PT24H
DESCRIPTION:Herinnering - Heuveltocht
ACTION:DISPLAY
END:VALARM
END:VEVENT
END:VCALENDAR
