BEGIN:VCALENDAR
VERSION:2.0
PRODID:Fietssport.nl
CALSCALE:GREGORIAN
BEGIN:VEVENT
DTSTART;TZID=Europe/Amsterdam:20260704T100000
DTEND;TZID=Europe/Amsterdam:20260704T120000
SUMMARY:Ster van Huizen 2026
URL:https://www.fietssport.nl/toertochten/60075
DESCRIPTION:Ster van Huizen 2026\n\nzaterdag 04 juli 2026\nCrailoseweg 80\nHuizen\n\nhttps://www.fietssport.nl/toertochten/60075
LOCATION:Huizen
BEGIN:VALARM
TRIGGER:-PT24H
DESCRIPTION:Herinnering - Ster van Huizen 2026
ACTION:DISPLAY
END:VALARM
END:VEVENT
END:VCALENDAR
