BEGIN:VCALENDAR
VERSION:2.0
PRODID:Fietssport.nl
CALSCALE:GREGORIAN
BEGIN:VEVENT
DTSTART;TZID=Europe/Amsterdam:20260801T090000
DTEND;TZID=Europe/Amsterdam:20260801T093000
SUMMARY:Groene harttocht 2026
URL:https://www.fietssport.nl/toertochten/60074
DESCRIPTION:Groene harttocht 2026\n\nzaterdag 01 augustus 2026\nCrailoseweg 80\nHuizen\n\nhttps://www.fietssport.nl/toertochten/60074
LOCATION:Huizen
BEGIN:VALARM
TRIGGER:-PT24H
DESCRIPTION:Herinnering - Groene harttocht 2026
ACTION:DISPLAY
END:VALARM
END:VEVENT
END:VCALENDAR
