BEGIN:VCALENDAR
VERSION:2.0
PRODID:Fietssport.nl
CALSCALE:GREGORIAN
BEGIN:VEVENT
DTSTART;TZID=Europe/Amsterdam:20260613T060000
DTEND;TZID=Europe/Amsterdam:20260614T063000
SUMMARY:Borderride 400 2026
URL:https://www.fietssport.nl/toertochten/60072
DESCRIPTION:Borderride 400 2026\n\nzaterdag 13 juni 2026\nPlaatweg 10\nEpen\n\nhttps://www.fietssport.nl/toertochten/60072
LOCATION:Epen
BEGIN:VALARM
TRIGGER:-PT24H
DESCRIPTION:Herinnering - Borderride 400 2026
ACTION:DISPLAY
END:VALARM
END:VEVENT
END:VCALENDAR
