BEGIN:VCALENDAR
VERSION:2.0
PRODID:Fietssport.nl
CALSCALE:GREGORIAN
BEGIN:VEVENT
DTSTART;TZID=Europe/Amsterdam:20261011T080000
DTEND;TZID=Europe/Amsterdam:20261011T100000
SUMMARY:6e Heksenheuvel Tocht 2026
URL:https://www.fietssport.nl/toertochten/60066
DESCRIPTION:6e Heksenheuvel Tocht 2026\n\nzondag 11 oktober 2026\nBoeket 6 Nederweert\nNederweert\n\nhttps://www.fietssport.nl/toertochten/60066
LOCATION:Nederweert
BEGIN:VALARM
TRIGGER:-PT24H
DESCRIPTION:Herinnering - 6e Heksenheuvel Tocht 2026
ACTION:DISPLAY
END:VALARM
END:VEVENT
END:VCALENDAR
