BEGIN:VCALENDAR
VERSION:2.0
PRODID:Fietssport.nl
CALSCALE:GREGORIAN
BEGIN:VEVENT
DTSTART;TZID=Europe/Amsterdam:20260531T083000
DTEND;TZID=Europe/Amsterdam:20260531T093000
SUMMARY:Groene Harttocht
URL:https://www.fietssport.nl/toertochten/60061
DESCRIPTION:Groene Harttocht\n\nzondag 31 mei 2026\nKininelaantje 3 1216 BZ Hilversum\nHilversum\n\nhttps://www.fietssport.nl/toertochten/60061
LOCATION:Hilversum
BEGIN:VALARM
TRIGGER:-PT24H
DESCRIPTION:Herinnering - Groene Harttocht
ACTION:DISPLAY
END:VALARM
END:VEVENT
END:VCALENDAR
