BEGIN:VCALENDAR
VERSION:2.0
PRODID:Fietssport.nl
CALSCALE:GREGORIAN
BEGIN:VEVENT
DTSTART;TZID=Europe/Amsterdam:20260829T070000
DTEND;TZID=Europe/Amsterdam:20260829T090000
SUMMARY:Strelvio 2026
URL:https://www.fietssport.nl/toertochten/60057
DESCRIPTION:Strelvio 2026\n\nzaterdag 29 augustus 2026\nFrazione Agumes LS 50\nPrad am Stilfserjoch\n\nhttps://www.fietssport.nl/toertochten/60057
LOCATION:Prad am Stilfserjoch
BEGIN:VALARM
TRIGGER:-PT24H
DESCRIPTION:Herinnering - Strelvio 2026
ACTION:DISPLAY
END:VALARM
END:VEVENT
END:VCALENDAR
