BEGIN:VCALENDAR
VERSION:2.0
PRODID:Fietssport.nl
CALSCALE:GREGORIAN
BEGIN:VEVENT
DTSTART;TZID=Europe/Amsterdam:20260605T080000
DTEND;TZID=Europe/Amsterdam:20260605T093000
SUMMARY:The Gravel Friday
URL:https://www.fietssport.nl/toertochten/60056
DESCRIPTION:The Gravel Friday\n\nvrijdag 05 juni 2026\nPastoor van Winkelstraat 2d\nSchaijk\n\nhttps://www.fietssport.nl/toertochten/60056
LOCATION:Schaijk
BEGIN:VALARM
TRIGGER:-PT24H
DESCRIPTION:Herinnering - The Gravel Friday
ACTION:DISPLAY
END:VALARM
END:VEVENT
END:VCALENDAR
