BEGIN:VCALENDAR
VERSION:2.0
PRODID:Fietssport.nl
CALSCALE:GREGORIAN
BEGIN:VEVENT
DTSTART;TZID=Europe/Amsterdam:20260717T090000
DTEND;TZID=Europe/Amsterdam:20260720T130000
SUMMARY:Fiets4Daagse De Peel startplaats MEIJEL 2026
URL:https://www.fietssport.nl/toertochten/60054
DESCRIPTION:Fiets4Daagse De Peel startplaats MEIJEL 2026\n\nvrijdag 17 juli 2026\nAlexanderplein 2\nMeijel\n\nhttps://www.fietssport.nl/toertochten/60054
LOCATION:Meijel
BEGIN:VALARM
TRIGGER:-PT24H
DESCRIPTION:Herinnering - Fiets4Daagse De Peel startplaats MEIJEL 2026
ACTION:DISPLAY
END:VALARM
END:VEVENT
END:VCALENDAR
