BEGIN:VCALENDAR
VERSION:2.0
PRODID:Fietssport.nl
CALSCALE:GREGORIAN
BEGIN:VEVENT
DTSTART;TZID=Europe/Amsterdam:20260715T100000
DTEND;TZID=Europe/Amsterdam:20260716T130000
SUMMARY:Fiets4Daagse De Peel startplaats STIPHOUT 2026
URL:https://www.fietssport.nl/toertochten/60045
DESCRIPTION:Fiets4Daagse De Peel startplaats STIPHOUT 2026\n\nwoensdag 15 juli 2026\nMolenven 3\nHelmond\n\nhttps://www.fietssport.nl/toertochten/60045
LOCATION:Helmond
BEGIN:VALARM
TRIGGER:-PT24H
DESCRIPTION:Herinnering - Fiets4Daagse De Peel startplaats STIPHOUT 2026
ACTION:DISPLAY
END:VALARM
END:VEVENT
END:VCALENDAR
