BEGIN:VCALENDAR
VERSION:2.0
PRODID:Fietssport.nl
CALSCALE:GREGORIAN
BEGIN:VEVENT
DTSTART;TZID=Europe/Amsterdam:20260804T090000
DTEND;TZID=Europe/Amsterdam:20260807T120000
SUMMARY:50e Euregio Fiets-4-daagse Denekamp 2026
URL:https://www.fietssport.nl/toertochten/60036
DESCRIPTION:50e Euregio Fiets-4-daagse Denekamp 2026\n\ndinsdag 04 augustus 2026\nOldenzaalsestraat 49\nDenekamp\n\nhttps://www.fietssport.nl/toertochten/60036
LOCATION:Denekamp
BEGIN:VALARM
TRIGGER:-PT24H
DESCRIPTION:Herinnering - 50e Euregio Fiets-4-daagse Denekamp 2026
ACTION:DISPLAY
END:VALARM
END:VEVENT
END:VCALENDAR
