BEGIN:VCALENDAR
VERSION:2.0
PRODID:Fietssport.nl
CALSCALE:GREGORIAN
BEGIN:VEVENT
DTSTART;TZID=Europe/Amsterdam:20261226T083000
DTEND;TZID=Europe/Amsterdam:20261226T093000
SUMMARY:Gravel Kersttocht
URL:https://www.fietssport.nl/toertochten/60034
DESCRIPTION:Gravel Kersttocht\n\nzaterdag 26 december 2026\nPastoor van Winkelstraat 2\nSchaijk\n\nhttps://www.fietssport.nl/toertochten/60034
LOCATION:Schaijk
BEGIN:VALARM
TRIGGER:-PT24H
DESCRIPTION:Herinnering - Gravel Kersttocht
ACTION:DISPLAY
END:VALARM
END:VEVENT
END:VCALENDAR
