BEGIN:VCALENDAR
VERSION:2.0
PRODID:Fietssport.nl
CALSCALE:GREGORIAN
BEGIN:VEVENT
DTSTART;TZID=Europe/Amsterdam:20260530T080000
DTEND;TZID=Europe/Amsterdam:20260530T120000
SUMMARY:24e 4 Windstrekentoertocht
URL:https://www.fietssport.nl/toertochten/60019
DESCRIPTION:24e 4 Windstrekentoertocht\n\nzaterdag 30 mei 2026\nMeihuizenstraat 2\nBurum\n\nhttps://www.fietssport.nl/toertochten/60019
LOCATION:Burum
BEGIN:VALARM
TRIGGER:-PT24H
DESCRIPTION:Herinnering - 24e 4 Windstrekentoertocht
ACTION:DISPLAY
END:VALARM
END:VEVENT
END:VCALENDAR
