BEGIN:VCALENDAR
VERSION:2.0
PRODID:Fietssport.nl
CALSCALE:GREGORIAN
BEGIN:VEVENT
DTSTART;TZID=Europe/Amsterdam:20260913T080000
DTEND;TZID=Europe/Amsterdam:20260913T100000
SUMMARY:OWC Vredestein Gravel Experience 2026
URL:https://www.fietssport.nl/toertochten/60012
DESCRIPTION:OWC Vredestein Gravel Experience 2026\n\nzondag 13 september 2026\nClubgebouw OWC Oude Almeloseweg 1\nOldenzaal\n\nhttps://www.fietssport.nl/toertochten/60012
LOCATION:Oldenzaal
BEGIN:VALARM
TRIGGER:-PT24H
DESCRIPTION:Herinnering - OWC Vredestein Gravel Experience 2026
ACTION:DISPLAY
END:VALARM
END:VEVENT
END:VCALENDAR
