BEGIN:VCALENDAR
VERSION:2.0
PRODID:Fietssport.nl
CALSCALE:GREGORIAN
BEGIN:VEVENT
DTSTART;TZID=Europe/Amsterdam:20261115T083000
DTEND;TZID=Europe/Amsterdam:20261115T083000
SUMMARY:Dutch Masters of MTB 101 km E-Bike Marathon 2026
URL:https://www.fietssport.nl/toertochten/59983
DESCRIPTION:Dutch Masters of MTB 101 km E-Bike Marathon 2026\n\nzondag 15 november 2026\nHaarlerveldweg 1\nHaarle\n\nhttps://www.fietssport.nl/toertochten/59983
LOCATION:Haarle
BEGIN:VALARM
TRIGGER:-PT24H
DESCRIPTION:Herinnering - Dutch Masters of MTB 101 km E-Bike Marathon 2026
ACTION:DISPLAY
END:VALARM
END:VEVENT
END:VCALENDAR
