BEGIN:VCALENDAR
VERSION:2.0
PRODID:Fietssport.nl
CALSCALE:GREGORIAN
BEGIN:VEVENT
DTSTART;TZID=Europe/Amsterdam:20261018T090000
DTEND;TZID=Europe/Amsterdam:20261018T100000
SUMMARY:KokkieBikes Hellendoornse bossentocht 2026
URL:https://www.fietssport.nl/toertochten/59958
DESCRIPTION:KokkieBikes Hellendoornse bossentocht 2026\n\nzondag 18 oktober 2026\nMinicamping De Huttert Nieuwe Twentseweg 3\nLuttenberg\n\nhttps://www.fietssport.nl/toertochten/59958
LOCATION:Luttenberg
BEGIN:VALARM
TRIGGER:-PT24H
DESCRIPTION:Herinnering - KokkieBikes Hellendoornse bossentocht 2026
ACTION:DISPLAY
END:VALARM
END:VEVENT
END:VCALENDAR
