BEGIN:VCALENDAR
VERSION:2.0
PRODID:Fietssport.nl
CALSCALE:GREGORIAN
BEGIN:VEVENT
DTSTART;TZID=Europe/Amsterdam:20261017T183000
DTEND;TZID=Europe/Amsterdam:20261017T200000
SUMMARY:Kleppers Lichtjestocht Dongen 2026
URL:https://www.fietssport.nl/toertochten/59957
DESCRIPTION:Kleppers Lichtjestocht Dongen 2026\n\nzaterdag 17 oktober 2026\nZalencentrum De Viersprong Kanaalstr. 10\nDongen\n\nhttps://www.fietssport.nl/toertochten/59957
LOCATION:Dongen
BEGIN:VALARM
TRIGGER:-PT24H
DESCRIPTION:Herinnering - Kleppers Lichtjestocht Dongen 2026
ACTION:DISPLAY
END:VALARM
END:VEVENT
END:VCALENDAR
