BEGIN:VCALENDAR
VERSION:2.0
PRODID:Fietssport.nl
CALSCALE:GREGORIAN
BEGIN:VEVENT
DTSTART;TZID=Europe/Amsterdam:20261004T083000
DTEND;TZID=Europe/Amsterdam:20261004T100000
SUMMARY:Ronde van Stiphout  31ste MTB ronde 2026
URL:https://www.fietssport.nl/toertochten/59948
DESCRIPTION:Ronde van Stiphout  31ste MTB ronde 2026\n\nzondag 04 oktober 2026\nHAC kantine Sportpark Molenven Molenven 3\nHelmond\n\nhttps://www.fietssport.nl/toertochten/59948
LOCATION:Helmond
BEGIN:VALARM
TRIGGER:-PT24H
DESCRIPTION:Herinnering - Ronde van Stiphout  31ste MTB ronde 2026
ACTION:DISPLAY
END:VALARM
END:VEVENT
END:VCALENDAR
