BEGIN:VCALENDAR
VERSION:2.0
PRODID:Fietssport.nl
CALSCALE:GREGORIAN
BEGIN:VEVENT
DTSTART;TZID=Europe/Amsterdam:20270109T090000
DTEND;TZID=Europe/Amsterdam:20270109T103000
SUMMARY:Boverhoff Veldtoertocht TC Heerde 2027
URL:https://www.fietssport.nl/toertochten/59944
DESCRIPTION:Boverhoff Veldtoertocht TC Heerde 2027\n\nzaterdag 09 januari 2027\nVeldweg 1a\nHeerde\n\nhttps://www.fietssport.nl/toertochten/59944
LOCATION:Heerde
BEGIN:VALARM
TRIGGER:-PT24H
DESCRIPTION:Herinnering - Boverhoff Veldtoertocht TC Heerde 2027
ACTION:DISPLAY
END:VALARM
END:VEVENT
END:VCALENDAR
