BEGIN:VCALENDAR
VERSION:2.0
PRODID:Fietssport.nl
CALSCALE:GREGORIAN
BEGIN:VEVENT
DTSTART;TZID=Europe/Amsterdam:20261010T090000
DTEND;TZID=Europe/Amsterdam:20261010T100000
SUMMARY:AH Abe Brouwer Parel van Drenthe Toertocht 2026
URL:https://www.fietssport.nl/toertochten/59934
DESCRIPTION:AH Abe Brouwer Parel van Drenthe Toertocht 2026\n\nzaterdag 10 oktober 2026\nVan Helomaweg 18 7971 PX HavelteToegangspoort Holtingerveld\nHavelte\n\nhttps://www.fietssport.nl/toertochten/59934
LOCATION:Havelte
BEGIN:VALARM
TRIGGER:-PT24H
DESCRIPTION:Herinnering - AH Abe Brouwer Parel van Drenthe Toertocht 2026
ACTION:DISPLAY
END:VALARM
END:VEVENT
END:VCALENDAR
