BEGIN:VCALENDAR
VERSION:2.0
PRODID:Fietssport.nl
CALSCALE:GREGORIAN
BEGIN:VEVENT
DTSTART;TZID=Europe/Amsterdam:20260503T080000
DTEND;TZID=Europe/Amsterdam:20260503T100000
SUMMARY:4e Oude IJssel Gravel tocht 2026
URL:https://www.fietssport.nl/toertochten/59928
DESCRIPTION:4e Oude IJssel Gravel tocht 2026\n\nzondag 03 mei 2026\nWaalstraat 5 7081 AJ Gendringen\nGendringen\n\nhttps://www.fietssport.nl/toertochten/59928
LOCATION:Gendringen
BEGIN:VALARM
TRIGGER:-PT24H
DESCRIPTION:Herinnering - 4e Oude IJssel Gravel tocht 2026
ACTION:DISPLAY
END:VALARM
END:VEVENT
END:VCALENDAR
