BEGIN:VCALENDAR
VERSION:2.0
PRODID:Fietssport.nl
CALSCALE:GREGORIAN
BEGIN:VEVENT
DTSTART;TZID=Europe/Amsterdam:20260905T080000
DTEND;TZID=Europe/Amsterdam:20260905T130000
SUMMARY:Philippe Gilbert Cauberg Classic 2026
URL:https://www.fietssport.nl/toertochten/59920
DESCRIPTION:Philippe Gilbert Cauberg Classic 2026\n\nzaterdag 05 september 2026\nCauberg 29 Landal Kasteeldomein De Cauberg\nValkenburg\n\nhttps://www.fietssport.nl/toertochten/59920
LOCATION:Valkenburg
BEGIN:VALARM
TRIGGER:-PT24H
DESCRIPTION:Herinnering - Philippe Gilbert Cauberg Classic 2026
ACTION:DISPLAY
END:VALARM
END:VEVENT
END:VCALENDAR
