BEGIN:VCALENDAR
VERSION:2.0
PRODID:Fietssport.nl
CALSCALE:GREGORIAN
BEGIN:VEVENT
DTSTART;TZID=Europe/Amsterdam:20261018T090000
DTEND;TZID=Europe/Amsterdam:20261018T090000
SUMMARY:Hammerstone MTB Marathon 2026
URL:https://www.fietssport.nl/toertochten/59919
DESCRIPTION:Hammerstone MTB Marathon 2026\n\nzondag 18 oktober 2026\nDe Leeuwhof 2\nValkenburg\n\nhttps://www.fietssport.nl/toertochten/59919
LOCATION:Valkenburg
BEGIN:VALARM
TRIGGER:-PT24H
DESCRIPTION:Herinnering - Hammerstone MTB Marathon 2026
ACTION:DISPLAY
END:VALARM
END:VEVENT
END:VCALENDAR
