BEGIN:VCALENDAR
VERSION:2.0
PRODID:Fietssport.nl
CALSCALE:GREGORIAN
BEGIN:VEVENT
DTSTART;TZID=Europe/Amsterdam:20261017T090000
DTEND;TZID=Europe/Amsterdam:20261017T100000
SUMMARY:Hammerstone 2026
URL:https://www.fietssport.nl/toertochten/59918
DESCRIPTION:Hammerstone 2026\n\nzaterdag 17 oktober 2026\nDe Leeuwhof 2\nValkenburg\n\nhttps://www.fietssport.nl/toertochten/59918
LOCATION:Valkenburg
BEGIN:VALARM
TRIGGER:-PT24H
DESCRIPTION:Herinnering - Hammerstone 2026
ACTION:DISPLAY
END:VALARM
END:VEVENT
END:VCALENDAR
