BEGIN:VCALENDAR
VERSION:2.0
PRODID:Fietssport.nl
CALSCALE:GREGORIAN
BEGIN:VEVENT
DTSTART;TZID=Europe/Amsterdam:20260606T090000
DTEND;TZID=Europe/Amsterdam:20260606T100000
SUMMARY:Eroica Valkenburg 2026
URL:https://www.fietssport.nl/toertochten/59917
DESCRIPTION:Eroica Valkenburg 2026\n\nzaterdag 06 juni 2026\nTheodoor Dorrenplein\nValkenburg\n\nhttps://www.fietssport.nl/toertochten/59917
LOCATION:Valkenburg
BEGIN:VALARM
TRIGGER:-PT24H
DESCRIPTION:Herinnering - Eroica Valkenburg 2026
ACTION:DISPLAY
END:VALARM
END:VEVENT
END:VCALENDAR
