BEGIN:VCALENDAR
VERSION:2.0
PRODID:Fietssport.nl
CALSCALE:GREGORIAN
BEGIN:VEVENT
DTSTART;TZID=Europe/Amsterdam:20260829T080000
DTEND;TZID=Europe/Amsterdam:20260829T100000
SUMMARY:Grote Rivieren Tocht 2026
URL:https://www.fietssport.nl/toertochten/59915
DESCRIPTION:Grote Rivieren Tocht 2026\n\nzaterdag 29 augustus 2026\nWaardsedijk 40\nWoerden\n\nhttps://www.fietssport.nl/toertochten/59915
LOCATION:Woerden
BEGIN:VALARM
TRIGGER:-PT24H
DESCRIPTION:Herinnering - Grote Rivieren Tocht 2026
ACTION:DISPLAY
END:VALARM
END:VEVENT
END:VCALENDAR
