BEGIN:VCALENDAR
VERSION:2.0
PRODID:Fietssport.nl
CALSCALE:GREGORIAN
BEGIN:VEVENT
DTSTART;TZID=Europe/Amsterdam:20261115T083000
DTEND;TZID=Europe/Amsterdam:20261115T100000
SUMMARY:Rudi Kemna Classic Veldtoer 2026
URL:https://www.fietssport.nl/toertochten/59914
DESCRIPTION:Rudi Kemna Classic Veldtoer 2026\n\nzondag 15 november 2026\nClubgebouw OWC Oude Almeloseweg 1\nOldenzaal\n\nhttps://www.fietssport.nl/toertochten/59914
LOCATION:Oldenzaal
BEGIN:VALARM
TRIGGER:-PT24H
DESCRIPTION:Herinnering - Rudi Kemna Classic Veldtoer 2026
ACTION:DISPLAY
END:VALARM
END:VEVENT
END:VCALENDAR
