BEGIN:VCALENDAR
VERSION:2.0
PRODID:Fietssport.nl
CALSCALE:GREGORIAN
BEGIN:VEVENT
DTSTART;TZID=Europe/Amsterdam:20261004T083000
DTEND;TZID=Europe/Amsterdam:20261004T093000
SUMMARY:Vasser Heuvelen Classic 2026
URL:https://www.fietssport.nl/toertochten/59894
DESCRIPTION:Vasser Heuvelen Classic 2026\n\nzondag 04 oktober 2026\nCamping en vakantiepark de Witte berg Wittebergweg 9\nNutter (nabij Vasse)\n\nhttps://www.fietssport.nl/toertochten/59894
LOCATION:Nutter (nabij Vasse)
BEGIN:VALARM
TRIGGER:-PT24H
DESCRIPTION:Herinnering - Vasser Heuvelen Classic 2026
ACTION:DISPLAY
END:VALARM
END:VEVENT
END:VCALENDAR
