BEGIN:VCALENDAR
VERSION:2.0
PRODID:Fietssport.nl
CALSCALE:GREGORIAN
BEGIN:VEVENT
DTSTART;TZID=Europe/Amsterdam:20260816T080000
DTEND;TZID=Europe/Amsterdam:20260816T103000
SUMMARY:Westerscheldetocht 2026
URL:https://www.fietssport.nl/toertochten/59890
DESCRIPTION:Westerscheldetocht 2026\n\nzondag 16 augustus 2026\nWittebrugstraat 6\nHulst\n\nhttps://www.fietssport.nl/toertochten/59890
LOCATION:Hulst
BEGIN:VALARM
TRIGGER:-PT24H
DESCRIPTION:Herinnering - Westerscheldetocht 2026
ACTION:DISPLAY
END:VALARM
END:VEVENT
END:VCALENDAR
