BEGIN:VCALENDAR
VERSION:2.0
PRODID:Fietssport.nl
CALSCALE:GREGORIAN
BEGIN:VEVENT
DTSTART;TZID=Europe/Amsterdam:20260613T090000
DTEND;TZID=Europe/Amsterdam:20260613T110000
SUMMARY:Strade Bianche Flevoland 2026
URL:https://www.fietssport.nl/toertochten/59877
DESCRIPTION:Strade Bianche Flevoland 2026\n\nzaterdag 13 juni 2026\nSportparkweg 2 Lelystad\nLelystad\n\nhttps://www.fietssport.nl/toertochten/59877
LOCATION:Lelystad
BEGIN:VALARM
TRIGGER:-PT24H
DESCRIPTION:Herinnering - Strade Bianche Flevoland 2026
ACTION:DISPLAY
END:VALARM
END:VEVENT
END:VCALENDAR
