BEGIN:VCALENDAR
VERSION:2.0
PRODID:Fietssport.nl
CALSCALE:GREGORIAN
BEGIN:VEVENT
DTSTART;TZID=Europe/Amsterdam:20260525T070000
DTEND;TZID=Europe/Amsterdam:20260525T100000
SUMMARY:Klimmen tegen MS 2026
URL:https://www.fietssport.nl/toertochten/59871
DESCRIPTION:Klimmen tegen MS 2026\n\nmaandag 25 mei 2026\n693 Rte du Grozeau 84340 Malaucene Frankrijk\nMalaucene\n\nhttps://www.fietssport.nl/toertochten/59871
LOCATION:Malaucene
BEGIN:VALARM
TRIGGER:-PT24H
DESCRIPTION:Herinnering - Klimmen tegen MS 2026
ACTION:DISPLAY
END:VALARM
END:VEVENT
END:VCALENDAR
