BEGIN:VCALENDAR
VERSION:2.0
PRODID:Fietssport.nl
CALSCALE:GREGORIAN
BEGIN:VEVENT
DTSTART;TZID=Europe/Amsterdam:20260906T080000
DTEND;TZID=Europe/Amsterdam:20260906T110000
SUMMARY:Acht van Terneuzen 2026
URL:https://www.fietssport.nl/toertochten/59868
DESCRIPTION:Acht van Terneuzen 2026\n\nzondag 06 september 2026\nDu Commerce Markt 2 Terneuzen\nTerneuzen\n\nhttps://www.fietssport.nl/toertochten/59868
LOCATION:Terneuzen
BEGIN:VALARM
TRIGGER:-PT24H
DESCRIPTION:Herinnering - Acht van Terneuzen 2026
ACTION:DISPLAY
END:VALARM
END:VEVENT
END:VCALENDAR
