BEGIN:VCALENDAR
VERSION:2.0
PRODID:Fietssport.nl
CALSCALE:GREGORIAN
BEGIN:VEVENT
DTSTART;TZID=Europe/Amsterdam:20260704T093000
DTEND;TZID=Europe/Amsterdam:20260704T103000
SUMMARY:De Hel van Harkema
URL:https://www.fietssport.nl/toertochten/59830
DESCRIPTION:De Hel van Harkema\n\nzaterdag 04 juli 2026\nBarchhiem 1\nHarkema\n\nhttps://www.fietssport.nl/toertochten/59830
LOCATION:Harkema
BEGIN:VALARM
TRIGGER:-PT24H
DESCRIPTION:Herinnering - De Hel van Harkema
ACTION:DISPLAY
END:VALARM
END:VEVENT
END:VCALENDAR
