BEGIN:VCALENDAR
VERSION:2.0
PRODID:Fietssport.nl
CALSCALE:GREGORIAN
BEGIN:VEVENT
DTSTART;TZID=Europe/Amsterdam:20260514T090000
DTEND;TZID=Europe/Amsterdam:20260517T090000
SUMMARY:Eifel toer
URL:https://www.fietssport.nl/toertochten/59824
DESCRIPTION:Eifel toer\n\ndonderdag 14 mei 2026\nHauptstrae 29 - 54570 Neroth\nNeroth\n\nhttps://www.fietssport.nl/toertochten/59824
LOCATION:Neroth
BEGIN:VALARM
TRIGGER:-PT24H
DESCRIPTION:Herinnering - Eifel toer
ACTION:DISPLAY
END:VALARM
END:VEVENT
END:VCALENDAR
